BEGIN:VCALENDAR
VERSION:2.0
CALSCALE:GREGORIAN
METHOD:PUBLISH
PRODID://UCIE//207797
BEGIN:VEVENT
DTSTAMP:20260421T193257
VTIMEZONE:America/Denver
DTSTART:20260327T000000Z
DTEND:20260327T020000Z
UID:207797
SUMMARY:TESOL Social Gathering - UCIEP and EnglishUSA
LOCATION:Bewilder Brewing, 445 S 400 W, Salt Lake City, UT, 84101
DESCRIPTION:TESOL Social Gathering - UCIEP and EnglishUSA\n\n03/26/26 06:00 PM MST\n - 03/26/26 08:00 PM MST\Description:\nAll invited - past, current, future members; UCIEP or EnglishUSA. No RSVP needed - just show up. No food or drink provided, just a coordinated social gathering - feel free to buy drinks or food on your own. The brewery is open to the public.\Location:\nBewilder Brewing\n445 S 400 W\nSalt Lake City, UT 84101
X-ALT-DESC;FMTTYPE=text/html:TESOL Social Gathering - UCIEP and EnglishUSA<br /><br />03/26/26 06:00 PM MST - 03/26/26 08:00 PM MST<br />Description:<br />All invited - past, current, future members; UCIEP or EnglishUSA. No RSVP needed - just show up. No food or drink provided, just a coordinated social gathering - feel free to buy drinks or food on your own. The brewery is open to the public.<br />Location:<br />Bewilder Brewing<br />445 S 400 W<br />Salt Lake City, UT 84101
PRIORITY:3
TRANSP:TRANSPARENT
BEGIN:VALARM
TRIGGER:-PT5M
ACTION:DISPLAY
DESCRIPTION:Reminder
END:VALARM
END:VEVENT
END:VCALENDAR
