BEGIN:VCALENDAR
VERSION:2.0
CALSCALE:GREGORIAN
METHOD:PUBLISH
PRODID://UCIE//202400
BEGIN:VEVENT
DTSTAMP:20260421T161220
VTIMEZONE:America/New_York
DTSTART:20251119T190000Z
DTEND:20251119T200000Z
UID:202400
SUMMARY:UCIEP PD Workshop: Where We Are Now and What Lies Ahead
LOCATION:347 618 9554
DESCRIPTION:UCIEP PD Workshop: Where We Are Now and What Lies Ahead\n\n11/19/25 02:00 PM EST\n - 11/19/25 03:00 PM EST\Description:\nJoin us for an engaging and informative session designed specifically for ELP program administrators on November 19th at 2PM EST. This workshop will explore the current state of the field under the present administration, examine recent policy and regulatory developments, and discuss emerging trends that may shape the future of English language programs in the U.S.\n\n Our distinguished panel of experts will provide timely insights and actionable guidance to help you navigate change, advocate effectively, and position your programs for success.\n\n Panelists include:\n\n\n	Mark Algren, Applied English Center, University of Kansas\n	Cheryl Del Le Good, Executive Director, EnglishUSA\n	Joann Ng Hartmann, NAFSA: Association of International Educators\n\n\nRegister here: UCIEP Workshop: Where We Are Now and What Lies Ahead – Fill out form\n\n Don’t miss this opportunity to connect with leaders in the field, share perspectives, and gain a clearer understanding of where ESL education is headed next. See you there!\n\n \n\Details:\nhttps://forms.office.com/pages/responsepage.aspx?id=qOV5rOTgS0OikiyJtcKDZgnY7Ce3f25DqWK9Su6k9OdURFVVTjlHSDJVRjRWSDhXNzUzQjJaTzdSNy4u&route=shorturl\Location:\n347 618 9554\n\n,
X-ALT-DESC;FMTTYPE=text/html:UCIEP PD Workshop: Where We Are Now and What Lies Ahead<br /><br />11/19/25 02:00 PM EST - 11/19/25 03:00 PM EST<br />Description:<br /><div class="x_elementToProof" data-olk-copy-source="MessageBody" style="margin-top: 1em; margin-bottom: 1em; font-family: &quot;Arial&quot;, &quot;Helvetica&quot;, sans-serif; font-size: 12pt; color: rgb(0, 0, 0) !important;">Join us for an engaging and informative session designed specifically for ELP program administrators on <strong>November 19th at 2PM EST</strong>. This workshop will explore the current state of the field under the present administration, examine recent policy and regulatory developments, and discuss emerging trends that may shape the future of English language programs in the U.S.</div>

<div class="x_elementToProof" style="margin-top: 1em; margin-bottom: 1em; font-family: &quot;Arial&quot;, &quot;Helvetica&quot;, sans-serif; font-size: 12pt; color: rgb(0, 0, 0) !important;">&nbsp;Our distinguished panel of experts will provide timely insights and actionable guidance to help you navigate change, advocate effectively, and position your programs for success.</div>

<div class="x_elementToProof" style="margin-top: 1em; margin-bottom: 1em; font-family: &quot;Arial&quot;, &quot;Helvetica&quot;, sans-serif; font-size: 12pt; color: rgb(0, 0, 0) !important;">&nbsp;<strong>Panelists include:</strong></div>

<ul>
	<li style="font-family: &quot;Arial&quot;, &quot;Helvetica&quot;, sans-serif; font-size: 12pt; color: rgb(0, 0, 0) !important;"><strong>Mark Algren</strong>, Applied English Center, University of Kansas</li>
	<li style="font-family: &quot;Arial&quot;, &quot;Helvetica&quot;, sans-serif; font-size: 12pt; color: rgb(0, 0, 0) !important;"><strong>Cheryl Del Le Good</strong>, Executive Director, EnglishUSA</li>
	<li style="font-family: &quot;Arial&quot;, &quot;Helvetica&quot;, sans-serif; font-size: 12pt; color: rgb(0, 0, 0) !important;"><strong>Joann Ng Hartmann</strong>, NAFSA: Association of International Educators</li>
</ul>

<div class="x_elementToProof" style="margin-top: 1em; margin-bottom: 1em; font-family: &quot;Arial&quot;, &quot;Helvetica&quot;, sans-serif; font-size: 12pt; color: rgb(0, 0, 0) !important;"><strong>Register here</strong>: <a class="x_OWAAutoLink" data-auth="NotApplicable" data-linkindex="0" href="https://forms.office.com/r/W4RK3jeYry" id="OWAf7fd72f0-8f92-22fd-bd74-c3803d7f126b" rel="noopener noreferrer" target="_blank" title="https://forms.office.com/r/W4RK3jeYry">UCIEP Workshop: Where We Are Now and What Lies Ahead &ndash; Fill out form</a></div>

<div class="x_elementToProof" style="margin-top: 1em; margin-bottom: 1em; font-family: &quot;Arial&quot;, &quot;Helvetica&quot;, sans-serif; font-size: 12pt; color: rgb(0, 0, 0) !important;">&nbsp;Don&rsquo;t miss this opportunity to connect with leaders in the field, share perspectives, and gain a clearer understanding of where ESL education is headed next. See you there!</div>

<div class="x_elementToProof" style="font-family: &quot;Arial&quot;, &quot;Helvetica&quot;, sans-serif; font-size: 12pt; color: rgb(0, 0, 0) !important;">&nbsp;</div>
<br />Details:<br />https://forms.office.com/pages/responsepage.aspx?id=qOV5rOTgS0OikiyJtcKDZgnY7Ce3f25DqWK9Su6k9OdURFVVTjlHSDJVRjRWSDhXNzUzQjJaTzdSNy4u&amp;route=shorturl<br />Location:<br />347 618 9554<br /><br />,  
PRIORITY:3
TRANSP:TRANSPARENT
BEGIN:VALARM
TRIGGER:-PT5M
ACTION:DISPLAY
DESCRIPTION:Reminder
END:VALARM
END:VEVENT
END:VCALENDAR
