BEGIN:VCALENDAR
VERSION:2.0
CALSCALE:GREGORIAN
METHOD:PUBLISH
PRODID://UCIE//201148
BEGIN:VEVENT
DTSTAMP:20260421T175116
VTIMEZONE:America/New_York
DTSTART:20251104T210000Z
DTEND:20251104T224500Z
UID:201148
SUMMARY:UCIEP Alumni Gathering (Virtual)
LOCATION:https://uic.zoom.us/j/3122088835?omn=84594340383
DESCRIPTION:UCIEP Alumni Gathering (Virtual)\n\n11/04/25 04:00 PM EST\n - 11/04/25 05:45 PM EST\Description:\nDear UCIEP Alumni,\n\nMark your calendars for a UCIEP Alumni Zoom gathering on Tuesday, November 4, at 4:00 PM Eastern Standard Time, 1:00 PM Pacific.\n\nWe will be welcomed by UCIEP President and Vice President, who will give us a brief update on what the consortia has accomplished over the past few years. Then we will want to hear from you, with your each taking a minute to tell us the exciting things you've been doing since having begun writing a new post-UCIEP chapter in your life. We will wrap up by soliciting ideas for our next gathering.\n\nA Zoom invite will be sent shortly to everyone who has registered as a UCIEP Alumni Group Member. If you haven't registered yet or want to nudge a UCIEP friend to take the plunge and join, please go to www.uciep.org/alumni to register. Or, if you want more information about the UCIEP Alumni Group, simply go to the UCIEP website (www.uciep.org) and under “About UCIEP” click on “UCIEP Alumni Group."\n\nWe can't wait to see you!\Details:\nJason Romano @ UIC is inviting you to a scheduled Zoom meeting.\nJoin Zoom Meeting\nhttps://uic.zoom.us/j/3122088835?omn=84594340383\n\nMeeting ID: 312 208 8835\n\n---\n\nOne tap mobile\n+13126266799,,3122088835# US (Chicago)\n+13092053325,,3122088835# US\n\n---\n\nJoin by SIP\n• 3122088835@zoomcrc.com\n\nJoin instructions\nhttps://uic.zoom.us/meetings/84594340383/invitations?signature=U1hZgznLvd2RHNCbia8AFwswC8f0PldMmRetRsPevZI\Location:\nhttps://uic.zoom.us/j/3122088835?omn=84594340383\n\n,
X-ALT-DESC;FMTTYPE=text/html:UCIEP Alumni Gathering (Virtual)<br /><br />11/04/25 04:00 PM EST - 11/04/25 05:45 PM EST<br />Description:<br />Dear UCIEP&nbsp;Alumni,<br />
<br />
Mark your calendars for a UCIEP Alumni Zoom gathering on Tuesday, November 4, at 4:00 PM Eastern Standard Time, 1:00 PM Pacific.<br />
<br />
We will be welcomed by UCIEP President and Vice President, who will give us a brief update on what the consortia has accomplished over the past few years. Then we will want to hear from you, with your each taking a minute to tell us the exciting things you've been doing since having begun writing a new post-UCIEP chapter in your life. We will wrap up by soliciting ideas for our next gathering.<br />
<br />
A Zoom invite will be sent shortly to everyone who has registered as a UCIEP Alumni Group Member. If you haven't registered yet or want to nudge a UCIEP friend to take the plunge and join, please go to <a href="http://www.uciep.org/alumni to register">www.uciep.org/alumni to register</a>. Or, if you want more information about the UCIEP Alumni Group, simply go to the UCIEP website (www.uciep.org) and under &ldquo;About UCIEP&rdquo; click on &ldquo;UCIEP Alumni Group.&quot;<br />
<br />
We can't wait to see you!<br />Details:<br />Jason Romano @ UIC is inviting you to a scheduled Zoom meeting.<br />
Join Zoom Meeting<br />
<a href="https://uic.zoom.us/j/3122088835?omn=84594340383" target="_top">https://uic.zoom.us/j/3122088835?omn=84594340383</a><br />
<br />
Meeting ID: 312 208 8835<br />
<br />
---<br />
<br />
One tap mobile<br />
+13126266799,,3122088835# US (Chicago)<br />
+13092053325,,3122088835# US<br />
<br />
---<br />
<br />
Join by SIP<br />
&bull; 3122088835@zoomcrc.com<br />
<br />
Join instructions<br />
<a href="https://uic.zoom.us/meetings/84594340383/invitations?signature=U1hZgznLvd2RHNCbia8AFwswC8f0PldMmRetRsPevZI" target="_top">https://uic.zoom.us/meetings/84594340383/invitations?signature=U1hZgznLvd2RHNCbia8AFwswC8f0PldMmRetRsPevZI</a><br />Location:<br />https://uic.zoom.us/j/3122088835?omn=84594340383<br /><br />,  
PRIORITY:3
TRANSP:TRANSPARENT
BEGIN:VALARM
TRIGGER:-PT5M
ACTION:DISPLAY
DESCRIPTION:Reminder
END:VALARM
END:VEVENT
END:VCALENDAR
